BEGIN:VCALENDAR
VERSION:2.0
PRODID:-//Karlshorst - ECPv6.15.20//NONSGML v1.0//EN
CALSCALE:GREGORIAN
METHOD:PUBLISH
X-ORIGINAL-URL:https://karlshorst.de
X-WR-CALDESC:Veranstaltungen für Karlshorst
REFRESH-INTERVAL;VALUE=DURATION:PT1H
X-Robots-Tag:noindex
X-PUBLISHED-TTL:PT1H
BEGIN:VTIMEZONE
TZID:Europe/Berlin
BEGIN:DAYLIGHT
TZOFFSETFROM:+0100
TZOFFSETTO:+0200
TZNAME:CEST
DTSTART:20240331T010000
END:DAYLIGHT
BEGIN:STANDARD
TZOFFSETFROM:+0200
TZOFFSETTO:+0100
TZNAME:CET
DTSTART:20241027T010000
END:STANDARD
BEGIN:DAYLIGHT
TZOFFSETFROM:+0100
TZOFFSETTO:+0200
TZNAME:CEST
DTSTART:20250330T010000
END:DAYLIGHT
BEGIN:STANDARD
TZOFFSETFROM:+0200
TZOFFSETTO:+0100
TZNAME:CET
DTSTART:20251026T010000
END:STANDARD
BEGIN:DAYLIGHT
TZOFFSETFROM:+0100
TZOFFSETTO:+0200
TZNAME:CEST
DTSTART:20260329T010000
END:DAYLIGHT
BEGIN:STANDARD
TZOFFSETFROM:+0200
TZOFFSETTO:+0100
TZNAME:CET
DTSTART:20261025T010000
END:STANDARD
END:VTIMEZONE
BEGIN:VEVENT
DTSTART;TZID=Europe/Berlin:20250307T193000
DTEND;TZID=Europe/Berlin:20250307T213000
DTSTAMP:20260422T141513
CREATED:20250222T163451Z
LAST-MODIFIED:20250306T193336Z
UID:10000029-1741375800-1741383000@karlshorst.de
SUMMARY:CARLSHORSTER MUSIKBÜHNE – USA 1920er JAHRE
DESCRIPTION:Kultur und Kulinarik aus anderen Regionen zu Gast in Karlshorst.  \nAnmeldungen nur unter: kirch@kultur-in-lichtenberg.de oder Tel. 030 475940611 \nAufgang A | Saal | Eintritt 24 € (inkl. Speisen) | Ermäßigt 3 €
URL:https://karlshorst.de/event/carlshorster-musikbuehne-usa-1920er-jahre/
LOCATION:Kulturhaus Karlshorst\, Treskowallee 112\, 10318 Berlin\, Deutschland\, Treskowallee 112\, Berlin\, Berlin\, 10318\, Germany
CATEGORIES:Verschiedenes
GEO:52.4820417;13.5250363
X-APPLE-STRUCTURED-LOCATION;VALUE=URI;X-ADDRESS=Kulturhaus Karlshorst Treskowallee 112 10318 Berlin Deutschland Treskowallee 112 Berlin Berlin 10318 Germany;X-APPLE-RADIUS=500;X-TITLE=Treskowallee 112:geo:13.5250363,52.4820417
END:VEVENT
END:VCALENDAR