BEGIN:VCALENDAR
VERSION:2.0
PRODID:-//Karlshorst - ECPv6.15.20//NONSGML v1.0//EN
CALSCALE:GREGORIAN
METHOD:PUBLISH
X-WR-CALNAME:Karlshorst
X-ORIGINAL-URL:https://karlshorst.de
X-WR-CALDESC:Veranstaltungen für Karlshorst
REFRESH-INTERVAL;VALUE=DURATION:PT1H
X-Robots-Tag:noindex
X-PUBLISHED-TTL:PT1H
BEGIN:VTIMEZONE
TZID:Europe/Berlin
BEGIN:DAYLIGHT
TZOFFSETFROM:+0100
TZOFFSETTO:+0200
TZNAME:CEST
DTSTART:20240331T010000
END:DAYLIGHT
BEGIN:STANDARD
TZOFFSETFROM:+0200
TZOFFSETTO:+0100
TZNAME:CET
DTSTART:20241027T010000
END:STANDARD
BEGIN:DAYLIGHT
TZOFFSETFROM:+0100
TZOFFSETTO:+0200
TZNAME:CEST
DTSTART:20250330T010000
END:DAYLIGHT
BEGIN:STANDARD
TZOFFSETFROM:+0200
TZOFFSETTO:+0100
TZNAME:CET
DTSTART:20251026T010000
END:STANDARD
BEGIN:DAYLIGHT
TZOFFSETFROM:+0100
TZOFFSETTO:+0200
TZNAME:CEST
DTSTART:20260329T010000
END:DAYLIGHT
BEGIN:STANDARD
TZOFFSETFROM:+0200
TZOFFSETTO:+0100
TZNAME:CET
DTSTART:20261025T010000
END:STANDARD
END:VTIMEZONE
BEGIN:VEVENT
DTSTART;TZID=Europe/Berlin:20250720T170000
DTEND;TZID=Europe/Berlin:20250720T180000
DTSTAMP:20260424T061357
CREATED:20250411T194601Z
LAST-MODIFIED:20250718T210008Z
UID:10000259-1753030800-1753034400@karlshorst.de
SUMMARY:Familienkonzert - SOUNDTRACK II
DESCRIPTION:Soundtrack II – Eine musikalische Reise von Babelsberg bis Hollywood Musik aus Film und Fernsehen \nmit dem Posaunenchor der Paul-Gerhardt-Gemeinde \nWerke von George Gershwin\, Helmut Lammel\, Dieter Wendel\, Ingo Luis u.a. \nLeitung: KMD Cornelia Ewald \nEintritt frei/Spende erbeten \nhttps://www.paul-gerhardt.com/pages/termine/musik-konzerte.php?monthno=7&year=2025 \n\n\n	Ähnliche Beiträge
URL:https://karlshorst.de/event/familienkonzert-soundtrack-ii/
LOCATION:Kirche Zur frohen Botschaft\, Weseler Str. 6\, 10318 Berlin\, Deutschland\, Weseler Straße 6\, Berlin\, Berlin\, 10318\, Germany
CATEGORIES:Verschiedenes
GEO:52.4855276;13.5281563
X-APPLE-STRUCTURED-LOCATION;VALUE=URI;X-ADDRESS=Kirche Zur frohen Botschaft Weseler Str. 6 10318 Berlin Deutschland Weseler Straße 6 Berlin Berlin 10318 Germany;X-APPLE-RADIUS=500;X-TITLE=Weseler Straße 6:geo:13.5281563,52.4855276
END:VEVENT
BEGIN:VEVENT
DTSTART;TZID=Europe/Berlin:20250711T190000
DTEND;TZID=Europe/Berlin:20250711T210000
DTSTAMP:20260424T061357
CREATED:20250704T210017Z
LAST-MODIFIED:20250704T210017Z
UID:10000396-1752260400-1752267600@karlshorst.de
SUMMARY:Sommerkonzert des Chores „La Musica"
DESCRIPTION:Happy Together \nVon Romantik bis Moderne: Sommerkonzert des Chores „La Musica“ \nEinlass 18:30\, Beginn 19:00 \n\n\n	Ähnliche Beiträge
URL:https://karlshorst.de/event/sommerkonzert-des-chores-la-musica/
LOCATION:Kirche Zur frohen Botschaft\, Weseler Str. 6\, 10318 Berlin\, Deutschland\, Weseler Straße 6\, Berlin\, Berlin\, 10318\, Germany
CATEGORIES:Verschiedenes
GEO:52.4855276;13.5281563
X-APPLE-STRUCTURED-LOCATION;VALUE=URI;X-ADDRESS=Kirche Zur frohen Botschaft Weseler Str. 6 10318 Berlin Deutschland Weseler Straße 6 Berlin Berlin 10318 Germany;X-APPLE-RADIUS=500;X-TITLE=Weseler Straße 6:geo:13.5281563,52.4855276
END:VEVENT
BEGIN:VEVENT
DTSTART;TZID=Europe/Berlin:20250706T170000
DTEND;TZID=Europe/Berlin:20250706T200000
DTSTAMP:20260424T061357
CREATED:20250328T194608Z
LAST-MODIFIED:20250704T210012Z
UID:10000231-1751821200-1751832000@karlshorst.de
SUMMARY:Orgelkonzert: ‚Fantasien allerlei gestalt‘
DESCRIPTION:Orgelwerke von William Byrd bis Johann Sebastian Bach \nProf. Henry Fairs\, Berlin\, Orgel  \nEintritt frei \n\n\n\n\n\n\n\n\n	Ähnliche Beiträge
URL:https://karlshorst.de/event/orgelkonzert-fantasien-allerlei-gestalt/
LOCATION:Kirche Zur frohen Botschaft\, Weseler Str. 6\, 10318 Berlin\, Deutschland\, Weseler Straße 6\, Berlin\, Berlin\, 10318\, Germany
CATEGORIES:Verschiedenes
GEO:52.4855276;13.5281563
X-APPLE-STRUCTURED-LOCATION;VALUE=URI;X-ADDRESS=Kirche Zur frohen Botschaft Weseler Str. 6 10318 Berlin Deutschland Weseler Straße 6 Berlin Berlin 10318 Germany;X-APPLE-RADIUS=500;X-TITLE=Weseler Straße 6:geo:13.5281563,52.4855276
END:VEVENT
BEGIN:VEVENT
DTSTART;TZID=Europe/Berlin:20250615T150000
DTEND;TZID=Europe/Berlin:20250615T180000
DTSTAMP:20260424T061357
CREATED:20250313T193002Z
LAST-MODIFIED:20250613T203014Z
UID:10000157-1749999600-1750010400@karlshorst.de
SUMMARY:Orgel Konzertfest
DESCRIPTION:Adventure! – Abenteuerreisen an einer Barock-Orgel \nBach und Jazz\, Renaissance und Mendelssohn\, Bach Pathos mittels Hochromantik \n\n\n	Ähnliche Beiträge
URL:https://karlshorst.de/event/orgel-konzertfest/
LOCATION:Kirche Zur frohen Botschaft\, Weseler Str. 6\, 10318 Berlin\, Deutschland\, Weseler Straße 6\, Berlin\, Berlin\, 10318\, Germany
CATEGORIES:Verschiedenes
GEO:52.4855276;13.5281563
X-APPLE-STRUCTURED-LOCATION;VALUE=URI;X-ADDRESS=Kirche Zur frohen Botschaft Weseler Str. 6 10318 Berlin Deutschland Weseler Straße 6 Berlin Berlin 10318 Germany;X-APPLE-RADIUS=500;X-TITLE=Weseler Straße 6:geo:13.5281563,52.4855276
END:VEVENT
BEGIN:VEVENT
DTSTART;TZID=Europe/Berlin:20250601T160000
DTEND;TZID=Europe/Berlin:20250601T170000
DTSTAMP:20260424T061357
CREATED:20250411T194551Z
LAST-MODIFIED:20250530T201507Z
UID:10000257-1748793600-1748797200@karlshorst.de
SUMMARY:Familienkonzert - Kindermusical: Jona und der Wal
DESCRIPTION:Jona und der WalText: Olaf Trenn\, Musik: Cornelia Ewald \nKinderchöre und Jugendchor der Paul-Gerhardt-Gemeinde Szenische Leitung: Sylvia Schwarz Musikalische Leitung: KMD Cornelia Ewald \nEintritt frei/Spende erbeten \nhttps://www.paul-gerhardt.com/pages/termine/musik-konzerte.php?monthno=6&year=2025 \n\n\n	Ähnliche Beiträge
URL:https://karlshorst.de/event/familienkonzert-kindermusical-jona-und-der-wal/
LOCATION:Kirche Zur frohen Botschaft\, Weseler Str. 6\, 10318 Berlin\, Deutschland\, Weseler Straße 6\, Berlin\, Berlin\, 10318\, Germany
CATEGORIES:Verschiedenes
GEO:52.4855276;13.5281563
X-APPLE-STRUCTURED-LOCATION;VALUE=URI;X-ADDRESS=Kirche Zur frohen Botschaft Weseler Str. 6 10318 Berlin Deutschland Weseler Straße 6 Berlin Berlin 10318 Germany;X-APPLE-RADIUS=500;X-TITLE=Weseler Straße 6:geo:13.5281563,52.4855276
END:VEVENT
BEGIN:VEVENT
DTSTART;TZID=Europe/Berlin:20250518T170000
DTEND;TZID=Europe/Berlin:20250518T180000
DTSTAMP:20260424T061357
CREATED:20250411T194532Z
LAST-MODIFIED:20250516T200006Z
UID:10000255-1747587600-1747591200@karlshorst.de
SUMMARY:Chorkonzert zum 80. Jahrestag des Kriegsendes
DESCRIPTION:Wie liegt die Stadt so wüst \nWerke von Johann Sebastian Bach\, Felix Mendelssohn Bartholdy\, Rudolf Mauersberger u.a. \nStudiochor Karlshorst Leitung: KMD Cornelia Ewald \nEintritt frei/Spende erbeten \nhttps://www.paul-gerhardt.com/pages/termine/musik-konzerte.php?monthno=5&year=2025 \n\n\n	Ähnliche Beiträge
URL:https://karlshorst.de/event/chorkonzert-zum-80-jahrestag-des-kriegsendes/
LOCATION:Kirche Zur frohen Botschaft\, Weseler Str. 6\, 10318 Berlin\, Deutschland\, Weseler Straße 6\, Berlin\, Berlin\, 10318\, Germany
CATEGORIES:Verschiedenes
GEO:52.4855276;13.5281563
X-APPLE-STRUCTURED-LOCATION;VALUE=URI;X-ADDRESS=Kirche Zur frohen Botschaft Weseler Str. 6 10318 Berlin Deutschland Weseler Straße 6 Berlin Berlin 10318 Germany;X-APPLE-RADIUS=500;X-TITLE=Weseler Straße 6:geo:13.5281563,52.4855276
END:VEVENT
BEGIN:VEVENT
DTSTART;TZID=Europe/Berlin:20250418T150000
DTEND;TZID=Europe/Berlin:20250418T163000
DTSTAMP:20260424T061357
CREATED:20250222T163453Z
LAST-MODIFIED:20250411T194624Z
UID:10000063-1744988400-1744993800@karlshorst.de
SUMMARY:Vocal & Orgel: Musik und Text zum Karfreitag
DESCRIPTION:Vocal & Orgel: Musik und Text zum KarfreitagVokalmusik des Barock; Orgelmusik von Johann Ludwig Krebs und Gottfried August Homilius  \nLichtenberger Kantatenchor\, Matthias Elger\, Leitung; Beate Kruppke\, Orgel; Edgar Dusdal\, Texte  \nEintritt frei \n\n\n\n\n\n\n\n\n	Ähnliche Beiträge
URL:https://karlshorst.de/event/vocal-orgel-musik-und-text-zum-karfreitag/
LOCATION:Kirche Zur frohen Botschaft\, Weseler Str. 6\, 10318 Berlin\, Deutschland\, Weseler Straße 6\, Berlin\, Berlin\, 10318\, Germany
CATEGORIES:Verschiedenes
GEO:52.4855276;13.5281563
X-APPLE-STRUCTURED-LOCATION;VALUE=URI;X-ADDRESS=Kirche Zur frohen Botschaft Weseler Str. 6 10318 Berlin Deutschland Weseler Straße 6 Berlin Berlin 10318 Germany;X-APPLE-RADIUS=500;X-TITLE=Weseler Straße 6:geo:13.5281563,52.4855276
END:VEVENT
BEGIN:VEVENT
DTSTART;TZID=Europe/Berlin:20250406T170000
DTEND;TZID=Europe/Berlin:20250406T190000
DTSTAMP:20260424T061357
CREATED:20250321T160119Z
LAST-MODIFIED:20250324T213122Z
UID:10000184-1743958800-1743966000@karlshorst.de
SUMMARY:Johann Sebastian Bach: Johannes-Passion (Zweitfassung 1725) BWV 245a
DESCRIPTION:Barbara Berg-Bretschneider\, Sopran\nIrene Schneider Alt\nShimon Yoshida\, Tenor\nPhilipp Jekal\, Bass\nMathis Koch\, Bass \nKantorei Karlshorst\nJunges Bach Ensemble Berlin \nLeitung: Cornelia Ewald \nKarten: \nPreiskategorie I:     22\,00 Euro | ermäßigt 18\,00 Euro\nPreiskategorie II:    20\,00 Euro | ermäßigt 16\,00 Euro \nVorverkauf in der Küsterei Karlshorst \ndienstags 9:00 – 11:30 Uhr \nWeseler Str. 6\, 10318 Berlin \nBestellungen bis 30. März unter: konzertkarten-karlshorst@paul-gerhardt.com\noder Abendkasse \n\n\n	Ähnliche Beiträge
URL:https://karlshorst.de/event/johann-sebastian-bach-johannes-passion-zweitfassung-1725-bwv-245a/
LOCATION:Kirche Zur frohen Botschaft\, Weseler Str. 6\, 10318 Berlin\, Deutschland\, Weseler Straße 6\, Berlin\, Berlin\, 10318\, Germany
CATEGORIES:130 Jahre Karlshorst
ATTACH;FMTTYPE=image/jpeg:https://karlshorst.de/wp-content/uploads/2025/03/Johannes-Brahms_-Ein-deutsches-Requiem-op.-45-7-Foto-Felix-Peschko.jpg
ORGANIZER;CN="Evangelische Paul-Gerhardt-Kirchengemeinde Lichtenberg":MAILTO:kh@paul-gerhardt,com
GEO:52.4855276;13.5281563
X-APPLE-STRUCTURED-LOCATION;VALUE=URI;X-ADDRESS=Kirche Zur frohen Botschaft Weseler Str. 6 10318 Berlin Deutschland Weseler Straße 6 Berlin Berlin 10318 Germany;X-APPLE-RADIUS=500;X-TITLE=Weseler Straße 6:geo:13.5281563,52.4855276
END:VEVENT
END:VCALENDAR