BEGIN:VCALENDAR
VERSION:2.0
PRODID:-//Karlshorst - ECPv6.15.20//NONSGML v1.0//EN
CALSCALE:GREGORIAN
METHOD:PUBLISH
X-ORIGINAL-URL:https://karlshorst.de
X-WR-CALDESC:Veranstaltungen für Karlshorst
REFRESH-INTERVAL;VALUE=DURATION:PT1H
X-Robots-Tag:noindex
X-PUBLISHED-TTL:PT1H
BEGIN:VTIMEZONE
TZID:Europe/Berlin
BEGIN:DAYLIGHT
TZOFFSETFROM:+0100
TZOFFSETTO:+0200
TZNAME:CEST
DTSTART:20240331T010000
END:DAYLIGHT
BEGIN:STANDARD
TZOFFSETFROM:+0200
TZOFFSETTO:+0100
TZNAME:CET
DTSTART:20241027T010000
END:STANDARD
BEGIN:DAYLIGHT
TZOFFSETFROM:+0100
TZOFFSETTO:+0200
TZNAME:CEST
DTSTART:20250330T010000
END:DAYLIGHT
BEGIN:STANDARD
TZOFFSETFROM:+0200
TZOFFSETTO:+0100
TZNAME:CET
DTSTART:20251026T010000
END:STANDARD
BEGIN:DAYLIGHT
TZOFFSETFROM:+0100
TZOFFSETTO:+0200
TZNAME:CEST
DTSTART:20260329T010000
END:DAYLIGHT
BEGIN:STANDARD
TZOFFSETFROM:+0200
TZOFFSETTO:+0100
TZNAME:CET
DTSTART:20261025T010000
END:STANDARD
END:VTIMEZONE
BEGIN:VEVENT
DTSTART;TZID=Europe/Berlin:20250304T193000
DTEND;TZID=Europe/Berlin:20250304T213000
DTSTAMP:20260422T141400
CREATED:20250222T163451Z
LAST-MODIFIED:20250222T163451Z
UID:10000026-1741116600-1741123800@karlshorst.de
SUMMARY:Multimediashow: Finnland
DESCRIPTION:Der studierte Opern- und Chansonsänger Thomas W. Mücke und seine Frau Nina zeigen in brillanter 6 x 6 Bildqualität und einzigartiger Synthese von Wort\, Gesang und Musik ihre Multimediashow. Vor vielen Jahren hat Mücke das Medium Dia-Präsentation zu einer neuen Dimension verholfen\, allein schon dadurch\, dass er meistens dazu singt und Bilder im analogen Mittelformat präsentiert\, welches auch heutzutage als unüberbietbar gilt.Eintritt 6 € | Ermäßigt 3 € \n\n\n	Ähnliche Beiträge
URL:https://karlshorst.de/event/multimediashow-finnland/
LOCATION:Kulturhaus Karlshorst\, Treskowallee 112\, 10318 Berlin\, Deutschland\, Treskowallee 112\, Berlin\, Berlin\, 10318\, Germany
GEO:52.4820417;13.5250363
X-APPLE-STRUCTURED-LOCATION;VALUE=URI;X-ADDRESS=Kulturhaus Karlshorst Treskowallee 112 10318 Berlin Deutschland Treskowallee 112 Berlin Berlin 10318 Germany;X-APPLE-RADIUS=500;X-TITLE=Treskowallee 112:geo:13.5250363,52.4820417
END:VEVENT
BEGIN:VEVENT
DTSTART;TZID=Europe/Berlin:20250228T193000
DTEND;TZID=Europe/Berlin:20250228T213000
DTSTAMP:20260422T141400
CREATED:20250222T163451Z
LAST-MODIFIED:20250222T163451Z
UID:10000021-1740771000-1740778200@karlshorst.de
SUMMARY:Klassik Konzert: Dvorak und Grieg – Romantische Gegensätze
DESCRIPTION:Das Ensemble Klassik Camerone bringt Ihnen einige Kostproben zu Gehör. Antonin Dvorak – Neben seinen 9 Sinfonien und der Oper „Rusalka“ komponierte er viel Kammermusik\, so auch das Streichquintett G-Dur op. 77 für 2 Violinen\, Viola\, Violoncello und Kontrabass. Edvard Grieg wurde in Norwegen geboren. Er wurde vor allem durch die Vertonung des Dramas von Henrik Ibsen „Peer Gynt“ berühmt. In fast identischen Lebensjahrzehnten er- schufen beide Komponisten unvergessene Meisterwerke der Musik auf Grundlage der Volksmusik Ihrer Länder. \n\n\n	Ähnliche Beiträge
URL:https://karlshorst.de/event/klassik-konzert-dvorak-und-grieg-romantische-gegensaetze/
LOCATION:Kulturhaus Karlshorst\, Treskowallee 112\, 10318 Berlin\, Deutschland\, Treskowallee 112\, Berlin\, Berlin\, 10318\, Germany
GEO:52.4820417;13.5250363
X-APPLE-STRUCTURED-LOCATION;VALUE=URI;X-ADDRESS=Kulturhaus Karlshorst Treskowallee 112 10318 Berlin Deutschland Treskowallee 112 Berlin Berlin 10318 Germany;X-APPLE-RADIUS=500;X-TITLE=Treskowallee 112:geo:13.5250363,52.4820417
END:VEVENT
BEGIN:VEVENT
DTSTART;TZID=Europe/Berlin:20250227T193000
DTEND;TZID=Europe/Berlin:20250227T213000
DTSTAMP:20260422T141400
CREATED:20250222T163451Z
LAST-MODIFIED:20250227T195951Z
UID:10000020-1740684600-1740691800@karlshorst.de
SUMMARY:Live Pocast: Von und mit Gunnar Jung und Torsten Ihle
DESCRIPTION:„Wenn die Hose rutscht“ – ein Podcast für alle und alle Altersgruppen. Erleben Sie mit\, wie die beiden Karlshorster Familienväter Gunnar und Torsten live auf der Bühne über Themen diskutieren\, die sie bewegen. Unvorbereitet\, locker und spontan\, dafür aber mit viel Enthusiasmus und ein bisschen bekloppt. Sie werden mitfühlen\, wie viel Spaß und Lust die Beiden bei der Aufnahme\, ihres aus mittlerweile über 25 Folgen bestehenden und sehr erfolgreichen Podcast-Formats\, haben. \n\n\n	Ähnliche Beiträge
URL:https://karlshorst.de/event/live-pocast-von-und-mit-gunnar-jung-und-torsten-ihle/
LOCATION:Kulturhaus Karlshorst\, Treskowallee 112\, 10318 Berlin\, Deutschland\, Treskowallee 112\, Berlin\, Berlin\, 10318\, Germany
GEO:52.4820417;13.5250363
X-APPLE-STRUCTURED-LOCATION;VALUE=URI;X-ADDRESS=Kulturhaus Karlshorst Treskowallee 112 10318 Berlin Deutschland Treskowallee 112 Berlin Berlin 10318 Germany;X-APPLE-RADIUS=500;X-TITLE=Treskowallee 112:geo:13.5250363,52.4820417
END:VEVENT
BEGIN:VEVENT
DTSTART;TZID=Europe/Berlin:20250226T190000
DTEND;TZID=Europe/Berlin:20250226T210000
DTSTAMP:20260422T141400
CREATED:20250222T163451Z
LAST-MODIFIED:20250222T163451Z
UID:10000018-1740596400-1740603600@karlshorst.de
SUMMARY:VORTRAG: Das Portland Cement Haus
DESCRIPTION:130 Jahre Karlshorst – Facetten der Geschichte \nVORTRAG: Das Portland Cement Haus \nHenrik Schwarz von den Geschichtsfreunden Karlshorst mit einem bebilderten Vortrag. \nEintritt frei \nhttps://geschichtsfreunde-karlshorst.de/Wiki.jsp?page=Das%20Portland-Cement-Haus \n\n\n	Ähnliche Beiträge
URL:https://karlshorst.de/event/vortrag-das-portland-cement-haus/
LOCATION:Kulturhaus Karlshorst\, Treskowallee 112\, 10318 Berlin\, Deutschland\, Treskowallee 112\, Berlin\, Berlin\, 10318\, Germany
GEO:52.4820417;13.5250363
X-APPLE-STRUCTURED-LOCATION;VALUE=URI;X-ADDRESS=Kulturhaus Karlshorst Treskowallee 112 10318 Berlin Deutschland Treskowallee 112 Berlin Berlin 10318 Germany;X-APPLE-RADIUS=500;X-TITLE=Treskowallee 112:geo:13.5250363,52.4820417
END:VEVENT
BEGIN:VEVENT
DTSTART;TZID=Europe/Berlin:20250223T110000
DTEND;TZID=Europe/Berlin:20250223T140000
DTSTAMP:20260422T141400
CREATED:20250222T163451Z
LAST-MODIFIED:20250222T163451Z
UID:10000016-1740308400-1740319200@karlshorst.de
SUMMARY:DER TANZENDE SONNTAG
DESCRIPTION:Tanz für Jung und Alt. Standard und Latein kann wieder drei Stunden lang im Kulturhaus getanzt werden. Eine Kooperation mit der Tanzschule des TSF Lichtenberg e. V..Aufgang A | Saal | Eintritt frei \n\n\n	Ähnliche Beiträge
URL:https://karlshorst.de/event/der-tanzende-sonntag/
LOCATION:Kulturhaus Karlshorst\, Treskowallee 112\, 10318 Berlin\, Deutschland\, Treskowallee 112\, Berlin\, Berlin\, 10318\, Germany
GEO:52.4820417;13.5250363
X-APPLE-STRUCTURED-LOCATION;VALUE=URI;X-ADDRESS=Kulturhaus Karlshorst Treskowallee 112 10318 Berlin Deutschland Treskowallee 112 Berlin Berlin 10318 Germany;X-APPLE-RADIUS=500;X-TITLE=Treskowallee 112:geo:13.5250363,52.4820417
END:VEVENT
BEGIN:VEVENT
DTSTART;TZID=Europe/Berlin:20250222T193000
DTEND;TZID=Europe/Berlin:20250222T213000
DTSTAMP:20260422T141400
CREATED:20250222T163451Z
LAST-MODIFIED:20250222T163451Z
UID:10000015-1740252600-1740259800@karlshorst.de
SUMMARY:Konzert: Lachs im Zweifel
DESCRIPTION:Lachs im Zweifel spielen eigene\, kontrastreiche und vorwiegend deutsche Songs. \nUnterhaltsam und mitreißend aber auch nachdenklich\, poetisch und gefühlvoll. \nEintritt 6 € | Ermäßigt 3 € \n\n\n	Ähnliche Beiträge
URL:https://karlshorst.de/event/konzert-lachs-im-zweifel/
LOCATION:Kulturhaus Karlshorst\, Treskowallee 112\, 10318 Berlin\, Deutschland\, Treskowallee 112\, Berlin\, Berlin\, 10318\, Germany
GEO:52.4820417;13.5250363
X-APPLE-STRUCTURED-LOCATION;VALUE=URI;X-ADDRESS=Kulturhaus Karlshorst Treskowallee 112 10318 Berlin Deutschland Treskowallee 112 Berlin Berlin 10318 Germany;X-APPLE-RADIUS=500;X-TITLE=Treskowallee 112:geo:13.5250363,52.4820417
END:VEVENT
END:VCALENDAR