BEGIN:VCALENDAR
VERSION:2.0
PRODID:-//Karlshorst - ECPv6.15.20//NONSGML v1.0//EN
CALSCALE:GREGORIAN
METHOD:PUBLISH
X-ORIGINAL-URL:https://karlshorst.de
X-WR-CALDESC:Veranstaltungen für Karlshorst
REFRESH-INTERVAL;VALUE=DURATION:PT1H
X-Robots-Tag:noindex
X-PUBLISHED-TTL:PT1H
BEGIN:VTIMEZONE
TZID:Europe/Berlin
BEGIN:DAYLIGHT
TZOFFSETFROM:+0100
TZOFFSETTO:+0200
TZNAME:CEST
DTSTART:20240331T010000
END:DAYLIGHT
BEGIN:STANDARD
TZOFFSETFROM:+0200
TZOFFSETTO:+0100
TZNAME:CET
DTSTART:20241027T010000
END:STANDARD
BEGIN:DAYLIGHT
TZOFFSETFROM:+0100
TZOFFSETTO:+0200
TZNAME:CEST
DTSTART:20250330T010000
END:DAYLIGHT
BEGIN:STANDARD
TZOFFSETFROM:+0200
TZOFFSETTO:+0100
TZNAME:CET
DTSTART:20251026T010000
END:STANDARD
BEGIN:DAYLIGHT
TZOFFSETFROM:+0100
TZOFFSETTO:+0200
TZNAME:CEST
DTSTART:20260329T010000
END:DAYLIGHT
BEGIN:STANDARD
TZOFFSETFROM:+0200
TZOFFSETTO:+0100
TZNAME:CET
DTSTART:20261025T010000
END:STANDARD
END:VTIMEZONE
BEGIN:VEVENT
DTSTART;TZID=Europe/Berlin:20250312T180000
DTEND;TZID=Europe/Berlin:20250312T200000
DTSTAMP:20260425T003107
CREATED:20250222T163451Z
LAST-MODIFIED:20250306T193336Z
UID:10000035-1741802400-1741809600@karlshorst.de
SUMMARY:Vortrag: 157 Jahre Schlossensemble Biesdorf. Ein geschichtlicher Rückblick
DESCRIPTION:157 Jahre Schlossensemble Biesdorf. Ein geschichtlicher Rückblick \nIm Jahre 2025 wird Biesdorf 650 Jahre alt. Das Schlossensemble ist Teil dieser Geschichte. Gemeinsame Vortragsreihe des Vereins Freunde Schloss Biesdorf e. V. mit der Volkshochschule Marzahn-Hellersdorf. Anmeldung erforderlich (begrenztes Platzangebot): info@freunde-schloss-biesdorf.de; Teilnahmegebühr (vor Ort in bar zu entrichten): 4\,00 €. VHS zu Gast im Schloss Biesdorf. \n\n\n\n \nhttps://schlossbiesdorf.de/veranstaltungen/partner\n\n\n\n\n\n	Ähnliche Beiträge
URL:https://karlshorst.de/event/vortrag-157-jahre-schlossensemble-biesdorf-ein-geschichtlicher-rueckblick/
LOCATION:Schloss Biesdorf\, Alt-Biesdorf 55\, 12683 Berlin\, Deutschland\, Alt-Biesdorf 55\, Berlin\, Berlin\, 12683\, Germany
CATEGORIES:Verschiedenes
GEO:52.5098165;13.5576727
X-APPLE-STRUCTURED-LOCATION;VALUE=URI;X-ADDRESS=Schloss Biesdorf Alt-Biesdorf 55 12683 Berlin Deutschland Alt-Biesdorf 55 Berlin Berlin 12683 Germany;X-APPLE-RADIUS=500;X-TITLE=Alt-Biesdorf 55:geo:13.5576727,52.5098165
END:VEVENT
END:VCALENDAR